BEGIN:VCALENDAR
VERSION:2.0
PRODID:-//ChamberMaster//Event Calendar 2.0//EN
METHOD:PUBLISH
X-PUBLISHED-TTL:P3D
REFRESH-INTERVAL:P3D
CALSCALE:GREGORIAN
BEGIN:VEVENT
DTSTART:20190817T140000Z
DTEND:20190817T151500Z
X-MICROSOFT-CDO-ALLDAYEVENT:FALSE
SUMMARY:Restorative Movement
DESCRIPTION:Restorative Movement classes focus on deep dives into particular areas of the body bringing awareness to under-moved areas and to build strong and supple muscles that support your body as you move through life. You'll leave class feeling strong\, relaxed\, and energized. Join Larissa Parson in The Studio at A Step To Health in Hillsborough for this weekly Saturday morning class.
X-ALT-DESC;FMTTYPE=text/html:<span style="font-family:arial\;"><span style="color:black\;"><span style="font-size:12.0pt\;">Restorative Movement classes focus on deep dives into particular areas of the body bringing awareness to under-moved areas and to build strong and supple muscles that support your body as you move through life. You&#39\;ll leave class feeling strong\, relaxed\, and energized. Join Larissa Parson in The Studio at A Step To Health in Hillsborough for this weekly Saturday morning class.</span></span></span>
LOCATION:The Studio at A Step To Health 410 Millstone Drive Hillsborough\, NC 27278
UID:e.2327.5942
SEQUENCE:3
DTSTAMP:20260423T200316Z
URL:https://business.hillsboroughchamber.com/events/details/restorative-movement-08-17-2019-5942
END:VEVENT

END:VCALENDAR
