BEGIN:VCALENDAR
VERSION:2.0
PRODID:-//ChamberMaster//Event Calendar 2.0//EN
METHOD:PUBLISH
X-PUBLISHED-TTL:P3D
REFRESH-INTERVAL:P3D
CALSCALE:GREGORIAN
BEGIN:VEVENT
DTSTART;VALUE=DATE:20201223
DTEND;VALUE=DATE:20210104
TRANSP:TRANSPARENT
X-MICROSOFT-CDO-ALLDAYEVENT:TRUE
SUMMARY:Hillsborough/Orange County Chamber of Commerce
DESCRIPTION:Hillsborough/Orange County Chamber of Commerce office is closed for Winter Holiday Celebrations
X-ALT-DESC;FMTTYPE=text/html:Hillsborough/Orange County Chamber of Commerce office is closed for Winter Holiday Celebrations
LOCATION:
UID:e.2327.12208
SEQUENCE:3
DTSTAMP:20260423T134839Z
URL:https://business.hillsboroughchamber.com/events/details/hillsborough-orange-county-chamber-of-commerce-12208
END:VEVENT

END:VCALENDAR
